BEGIN:VCALENDAR
VERSION:2.0
PRODID:-//The Webster Township Historical Society - ECPv6.15.20//NONSGML v1.0//EN
CALSCALE:GREGORIAN
METHOD:PUBLISH
X-WR-CALNAME:The Webster Township Historical Society
X-ORIGINAL-URL:https://webstertownshiphistoricalsociety.org
X-WR-CALDESC:Events for The Webster Township Historical Society
REFRESH-INTERVAL;VALUE=DURATION:PT1H
X-Robots-Tag:noindex
X-PUBLISHED-TTL:PT1H
BEGIN:VTIMEZONE
TZID:America/Detroit
BEGIN:DAYLIGHT
TZOFFSETFROM:-0500
TZOFFSETTO:-0400
TZNAME:EDT
DTSTART:20220313T070000
END:DAYLIGHT
BEGIN:STANDARD
TZOFFSETFROM:-0400
TZOFFSETTO:-0500
TZNAME:EST
DTSTART:20221106T060000
END:STANDARD
BEGIN:DAYLIGHT
TZOFFSETFROM:-0500
TZOFFSETTO:-0400
TZNAME:EDT
DTSTART:20230312T070000
END:DAYLIGHT
BEGIN:STANDARD
TZOFFSETFROM:-0400
TZOFFSETTO:-0500
TZNAME:EST
DTSTART:20231105T060000
END:STANDARD
BEGIN:DAYLIGHT
TZOFFSETFROM:-0500
TZOFFSETTO:-0400
TZNAME:EDT
DTSTART:20240310T070000
END:DAYLIGHT
BEGIN:STANDARD
TZOFFSETFROM:-0400
TZOFFSETTO:-0500
TZNAME:EST
DTSTART:20241103T060000
END:STANDARD
END:VTIMEZONE
BEGIN:VEVENT
DTSTART;TZID=America/Detroit:20230411T190000
DTEND;TZID=America/Detroit:20230411T210000
DTSTAMP:20260422T111823
CREATED:20230219T212101Z
LAST-MODIFIED:20230411T142052Z
UID:1654-1681239600-1681246800@webstertownshiphistoricalsociety.org
SUMMARY:WTHS Member Meeting - CANCELLED due to presenter being ill
DESCRIPTION:Jacob “Jake” Donner will provide a history of Whitmore Lake through a slide show of old postcards depicting its heyday as a resort town in the early- to mid-20th century.
URL:https://webstertownshiphistoricalsociety.org/event/wths-member-meeting-open-to-the-public
LOCATION:Crossroads Community Center\, 5501 Webster Church Road\, Dexter\, MI\, 48130\, United States
END:VEVENT
END:VCALENDAR