BEGIN:VCALENDAR
VERSION:2.0
PRODID:-//The Webster Township Historical Society - ECPv6.15.20//NONSGML v1.0//EN
CALSCALE:GREGORIAN
METHOD:PUBLISH
X-ORIGINAL-URL:https://webstertownshiphistoricalsociety.org
X-WR-CALDESC:Events for The Webster Township Historical Society
REFRESH-INTERVAL;VALUE=DURATION:PT1H
X-Robots-Tag:noindex
X-PUBLISHED-TTL:PT1H
BEGIN:VTIMEZONE
TZID:America/Detroit
BEGIN:DAYLIGHT
TZOFFSETFROM:-0500
TZOFFSETTO:-0400
TZNAME:EDT
DTSTART:20220313T070000
END:DAYLIGHT
BEGIN:STANDARD
TZOFFSETFROM:-0400
TZOFFSETTO:-0500
TZNAME:EST
DTSTART:20221106T060000
END:STANDARD
BEGIN:DAYLIGHT
TZOFFSETFROM:-0500
TZOFFSETTO:-0400
TZNAME:EDT
DTSTART:20230312T070000
END:DAYLIGHT
BEGIN:STANDARD
TZOFFSETFROM:-0400
TZOFFSETTO:-0500
TZNAME:EST
DTSTART:20231105T060000
END:STANDARD
BEGIN:DAYLIGHT
TZOFFSETFROM:-0500
TZOFFSETTO:-0400
TZNAME:EDT
DTSTART:20240310T070000
END:DAYLIGHT
BEGIN:STANDARD
TZOFFSETFROM:-0400
TZOFFSETTO:-0500
TZNAME:EST
DTSTART:20241103T060000
END:STANDARD
END:VTIMEZONE
BEGIN:VEVENT
DTSTART;TZID=America/Detroit:20230415T150000
DTEND;TZID=America/Detroit:20230415T170000
DTSTAMP:20260422T113712
CREATED:20230319T212043Z
LAST-MODIFIED:20230319T214122Z
UID:1692-1681570800-1681578000@webstertownshiphistoricalsociety.org
SUMMARY:Planning for Life Series
DESCRIPTION:This series\, a collaboration between Webster Township Historical Society (WTHS) and Webster United Church of Christ (WUCC)\, began with a presentation at WUCC on April 18\, “Courageous Conversations on end of life and living” presented via Zoom by Dr. Shahid Aziz\, a specialist in palliative and hospice care.  This presentation explored an area of life we really do not want to think about: Preparing for its end. Unfortunately\, this is an event that is inevitable and unpredictable\, and we are usually caught unprepared. There is an old Chinese Proverb: “The best time to plant a tree was 20 years ago. The second-best time is now.” \nFor the sake of your children\, siblings and close friends\, please consider preparing as there are many decisions and choices to be made. The WUCC and WTHS would like to offer you the opportunities to learn about care choices\, estate planning\, and time to have your wishes recorded\, witnessed\, and notarized. Please continue reading… \n15 April\, 3pm – Panel Discussion: “Care Choices” – Crossroads Community Center. Seating is limited. Register at wthsmi@gmail.com. \n\n\n\n\n\nIn-Home Care\, Assisted Living Care\, Nursing Home Care – Heather DeVos\, Area Agencies on Aging\nPalliative and Hospice Care – Rebecca Wyse\, Hospice Nurse\nModerator: Charity Omartian\, Pastor\, WUCC\n\n\n\n\n\n29 April\, 3pm – Panel: “Managing Your Estate: Wills\, Trusts\, Financial and Medical Powers of Attorney\, DNRs\, Health Care Advocates” – Crossroads Community Center. Seating is limited. Register at wthsmi@gmail.com. \n\n\n\n\n\nHannah R. Muller\, Esq.\nLaurie Brewis\, Esq.\nSteve Bemis\, Esq. (Retired)\n\n\n\n\n\n20 May\, 10am – 3pm – “Complete Your Forms” – Crossroads Community Center \n\n\n\n\n\nDNRs and Health Care Advocate forms with people to witness signatures and notaries to certify the forms. Experts on hand to answer questions.\n\n\n\n\n\n 
URL:https://webstertownshiphistoricalsociety.org/event/planning-for-life-series
LOCATION:Crossroads Community Center\, 5501 Webster Church Road\, Dexter\, MI\, 48130\, United States
END:VEVENT
BEGIN:VEVENT
DTSTART;TZID=America/Detroit:20230415T150000
DTEND;TZID=America/Detroit:20230415T170000
DTSTAMP:20260422T113712
CREATED:20230319T214556Z
LAST-MODIFIED:20230319T230047Z
UID:1696-1681570800-1681578000@webstertownshiphistoricalsociety.org
SUMMARY:Planning for Life Series\, Part 1 - Panel Discussion: "Care Choices"
DESCRIPTION:Seating is limited. Register at wthsmi@gmail.com. \n\n\n\n\n\nIn-Home Care\, Assisted Living Care\, Nursing Home Care – Heather DeVos\, Area Agencies on Aging\nPalliative and Hospice Care – Rebecca Wyse\, Hospice Nurse\nModerator: Charity Omartian\, Pastor\, WUCC
URL:https://webstertownshiphistoricalsociety.org/event/panel-discussion-care-choices
LOCATION:Crossroads Community Center\, 5501 Webster Church Road\, Dexter\, MI\, 48130\, United States
END:VEVENT
END:VCALENDAR