BEGIN:VCALENDAR
VERSION:2.0
PRODID:-//The Webster Township Historical Society - ECPv6.15.20//NONSGML v1.0//EN
CALSCALE:GREGORIAN
METHOD:PUBLISH
X-ORIGINAL-URL:https://webstertownshiphistoricalsociety.org
X-WR-CALDESC:Events for The Webster Township Historical Society
REFRESH-INTERVAL;VALUE=DURATION:PT1H
X-Robots-Tag:noindex
X-PUBLISHED-TTL:PT1H
BEGIN:VTIMEZONE
TZID:America/Detroit
BEGIN:DAYLIGHT
TZOFFSETFROM:-0500
TZOFFSETTO:-0400
TZNAME:EDT
DTSTART:20230312T070000
END:DAYLIGHT
BEGIN:STANDARD
TZOFFSETFROM:-0400
TZOFFSETTO:-0500
TZNAME:EST
DTSTART:20231105T060000
END:STANDARD
BEGIN:DAYLIGHT
TZOFFSETFROM:-0500
TZOFFSETTO:-0400
TZNAME:EDT
DTSTART:20240310T070000
END:DAYLIGHT
BEGIN:STANDARD
TZOFFSETFROM:-0400
TZOFFSETTO:-0500
TZNAME:EST
DTSTART:20241103T060000
END:STANDARD
BEGIN:DAYLIGHT
TZOFFSETFROM:-0500
TZOFFSETTO:-0400
TZNAME:EDT
DTSTART:20250309T070000
END:DAYLIGHT
BEGIN:STANDARD
TZOFFSETFROM:-0400
TZOFFSETTO:-0500
TZNAME:EST
DTSTART:20251102T060000
END:STANDARD
END:VTIMEZONE
BEGIN:VEVENT
DTSTART;TZID=America/Detroit:20241020T140000
DTEND;TZID=America/Detroit:20241020T160000
DTSTAMP:20260425T134322
CREATED:20240811T192716Z
LAST-MODIFIED:20241012T185601Z
UID:2498-1729432800-1729440000@webstertownshiphistoricalsociety.org
SUMMARY:Celtic Harp Concert
DESCRIPTION:A Benefit Concert for the Webster Township Historical Society \n \nCarol Kappus & the Ann Arbor Harpists \n \nSunday\, October 20\, 2024 \n2:00 PM \nTickets: $25/person.  Includes light refreshments. Capacity: 50 guests. \n Buy tickets here or at the door.  Space is limited. \nClick here to buy tickets
URL:https://webstertownshiphistoricalsociety.org/event/celtic-harp-concert-2
LOCATION:Historic Webster Village\, 5583 Webster Church Road\, Dexter\, MI\, 48130\, United States
ORGANIZER;CN="Joanne Westman":MAILTO:jnnwestman@yahoo.com
END:VEVENT
END:VCALENDAR