BEGIN:VCALENDAR
VERSION:2.0
PRODID:-//The Webster Township Historical Society - ECPv6.15.20//NONSGML v1.0//EN
CALSCALE:GREGORIAN
METHOD:PUBLISH
X-WR-CALNAME:The Webster Township Historical Society
X-ORIGINAL-URL:https://webstertownshiphistoricalsociety.org
X-WR-CALDESC:Events for The Webster Township Historical Society
REFRESH-INTERVAL;VALUE=DURATION:PT1H
X-Robots-Tag:noindex
X-PUBLISHED-TTL:PT1H
BEGIN:VTIMEZONE
TZID:America/Detroit
BEGIN:DAYLIGHT
TZOFFSETFROM:-0500
TZOFFSETTO:-0400
TZNAME:EDT
DTSTART:20250309T070000
END:DAYLIGHT
BEGIN:STANDARD
TZOFFSETFROM:-0400
TZOFFSETTO:-0500
TZNAME:EST
DTSTART:20251102T060000
END:STANDARD
BEGIN:DAYLIGHT
TZOFFSETFROM:-0500
TZOFFSETTO:-0400
TZNAME:EDT
DTSTART:20260308T070000
END:DAYLIGHT
BEGIN:STANDARD
TZOFFSETFROM:-0400
TZOFFSETTO:-0500
TZNAME:EST
DTSTART:20261101T060000
END:STANDARD
BEGIN:DAYLIGHT
TZOFFSETFROM:-0500
TZOFFSETTO:-0400
TZNAME:EDT
DTSTART:20270314T070000
END:DAYLIGHT
BEGIN:STANDARD
TZOFFSETFROM:-0400
TZOFFSETTO:-0500
TZNAME:EST
DTSTART:20271107T060000
END:STANDARD
END:VTIMEZONE
BEGIN:VEVENT
DTSTART;TZID=America/Detroit:20260420T100000
DTEND;TZID=America/Detroit:20260420T120000
DTSTAMP:20260420T234052
CREATED:20250102T203312Z
LAST-MODIFIED:20260419T003511Z
UID:2648-1776679200-1776686400@webstertownshiphistoricalsociety.org
SUMMARY:Men's Monday Drop-In
DESCRIPTION:This men’s group meets every Monday morning for conversation\, coffee and donuts.
URL:https://webstertownshiphistoricalsociety.org/event/mens-monday-drop-in-53
LOCATION:Crossroads Community Center\, 5501 Webster Church Road\, Dexter\, MI\, 48130\, United States
ATTACH;FMTTYPE=image/png:https://webstertownshiphistoricalsociety.org/wp-content/uploads/2025/02/coffee-cup-e1738449583610.png
END:VEVENT
END:VCALENDAR