BEGIN:VCALENDAR
VERSION:2.0
PRODID:-//The Webster Township Historical Society - ECPv6.15.20//NONSGML v1.0//EN
CALSCALE:GREGORIAN
METHOD:PUBLISH
X-ORIGINAL-URL:https://webstertownshiphistoricalsociety.org
X-WR-CALDESC:Events for The Webster Township Historical Society
REFRESH-INTERVAL;VALUE=DURATION:PT1H
X-Robots-Tag:noindex
X-PUBLISHED-TTL:PT1H
BEGIN:VTIMEZONE
TZID:America/Detroit
BEGIN:DAYLIGHT
TZOFFSETFROM:-0500
TZOFFSETTO:-0400
TZNAME:EDT
DTSTART:20230312T070000
END:DAYLIGHT
BEGIN:STANDARD
TZOFFSETFROM:-0400
TZOFFSETTO:-0500
TZNAME:EST
DTSTART:20231105T060000
END:STANDARD
BEGIN:DAYLIGHT
TZOFFSETFROM:-0500
TZOFFSETTO:-0400
TZNAME:EDT
DTSTART:20240310T070000
END:DAYLIGHT
BEGIN:STANDARD
TZOFFSETFROM:-0400
TZOFFSETTO:-0500
TZNAME:EST
DTSTART:20241103T060000
END:STANDARD
BEGIN:DAYLIGHT
TZOFFSETFROM:-0500
TZOFFSETTO:-0400
TZNAME:EDT
DTSTART:20250309T070000
END:DAYLIGHT
BEGIN:STANDARD
TZOFFSETFROM:-0400
TZOFFSETTO:-0500
TZNAME:EST
DTSTART:20251102T060000
END:STANDARD
END:VTIMEZONE
BEGIN:VEVENT
DTSTART;TZID=America/Detroit:20240803T120000
DTEND;TZID=America/Detroit:20240803T170000
DTSTAMP:20260424T063252
CREATED:20230810T165000Z
LAST-MODIFIED:20240803T130010Z
UID:1964-1722686400-1722704400@webstertownshiphistoricalsociety.org
SUMMARY:2024 Bluegrass Jamboree
DESCRIPTION:This is the Bluegrass event of the season and not to be missed!\nBring your instrument and a chair to join in the “jam circles” that will be happening around the village. Four bands will entertain you this year: Wilson Thicket\, The Next Paige\, Cedar Creek Bluegrass\, and The Companion Band. There will be lots of actiities for children of all ages. Our historic buildings will be open\, and a blacksmith will be demonstrating in the Wheeler Wheelwright & Blacksmith Shop. The general store will offer old-time games and toys\, candy and ice cream for sale. Two food trucks will offer food and beverages for purchase: The Smoke Doctor and Tacos El Mariachi Loco.  Free Parking. \nCome and join in the fun! \nTickets: Adults $20 in advance; $25 at the gate. \nStudents 13-18\, $10.\nChildren 12 and under\, free.\nBUY TICKETS AT THE GATE
URL:https://webstertownshiphistoricalsociety.org/event/bluegrass-jamboree-ice-cream-social
LOCATION:Historic Webster Village\, 5583 Webster Church Road\, Dexter\, MI\, 48130\, United States
END:VEVENT
END:VCALENDAR