BEGIN:VCALENDAR
VERSION:2.0
PRODID:-//The Webster Township Historical Society - ECPv6.15.20//NONSGML v1.0//EN
CALSCALE:GREGORIAN
METHOD:PUBLISH
X-ORIGINAL-URL:https://webstertownshiphistoricalsociety.org
X-WR-CALDESC:Events for The Webster Township Historical Society
REFRESH-INTERVAL;VALUE=DURATION:PT1H
X-Robots-Tag:noindex
X-PUBLISHED-TTL:PT1H
BEGIN:VTIMEZONE
TZID:America/Detroit
BEGIN:DAYLIGHT
TZOFFSETFROM:-0500
TZOFFSETTO:-0400
TZNAME:EDT
DTSTART:20230312T070000
END:DAYLIGHT
BEGIN:STANDARD
TZOFFSETFROM:-0400
TZOFFSETTO:-0500
TZNAME:EST
DTSTART:20231105T060000
END:STANDARD
BEGIN:DAYLIGHT
TZOFFSETFROM:-0500
TZOFFSETTO:-0400
TZNAME:EDT
DTSTART:20240310T070000
END:DAYLIGHT
BEGIN:STANDARD
TZOFFSETFROM:-0400
TZOFFSETTO:-0500
TZNAME:EST
DTSTART:20241103T060000
END:STANDARD
BEGIN:DAYLIGHT
TZOFFSETFROM:-0500
TZOFFSETTO:-0400
TZNAME:EDT
DTSTART:20250309T070000
END:DAYLIGHT
BEGIN:STANDARD
TZOFFSETFROM:-0400
TZOFFSETTO:-0500
TZNAME:EST
DTSTART:20251102T060000
END:STANDARD
END:VTIMEZONE
BEGIN:VEVENT
DTSTART;TZID=America/Detroit:20241102T123000
DTEND;TZID=America/Detroit:20241102T143000
DTSTAMP:20260425T102500
CREATED:20240820T200410Z
LAST-MODIFIED:20241028T152646Z
UID:2526-1730550600-1730557800@webstertownshiphistoricalsociety.org
SUMMARY:Pampered Chef Cooking Demonstration
DESCRIPTION:Pampered Chef Hostess Maureen Kimmel will present a cooking demonstration on Saturday\, November 2\, 2024.  In addition to tasting several dishes\, you may place an order for Pampered Chef products.  Pampered Chef products have an established reputation for quality and a company that will stand behind them. \nAll in-person and online orders now through November 30 will be credited to WTHS and a percentage will be donated the Society.  \n If you cannot attend the cooking demonstration in person\, please use the link below to browse the catalog and place an online order.   \nPlace My Online Order
URL:https://webstertownshiphistoricalsociety.org/event/pampered-chef-cooking-demonstration
LOCATION:MI
END:VEVENT
BEGIN:VEVENT
DTSTART;TZID=America/Detroit:20241105T100000
DTEND;TZID=America/Detroit:20241217T113000
DTSTAMP:20260425T102500
CREATED:20240405T231236Z
LAST-MODIFIED:20241113T213840Z
UID:2406-1730800800-1734435000@webstertownshiphistoricalsociety.org
SUMMARY:Men's Monday Drop-In
DESCRIPTION:This group meets every Monday morning at 10:00 AM for conversation\, coffee and snacks.
URL:https://webstertownshiphistoricalsociety.org/event/mens-monday-drop-in-52
LOCATION:Crossroads Community Center\, 5501 Webster Church Road\, Dexter\, MI\, 48130\, United States
END:VEVENT
END:VCALENDAR