BEGIN:VCALENDAR
VERSION:2.0
PRODID:-//The Webster Township Historical Society - ECPv6.15.20//NONSGML v1.0//EN
CALSCALE:GREGORIAN
METHOD:PUBLISH
X-WR-CALNAME:The Webster Township Historical Society
X-ORIGINAL-URL:https://webstertownshiphistoricalsociety.org
X-WR-CALDESC:Events for The Webster Township Historical Society
REFRESH-INTERVAL;VALUE=DURATION:PT1H
X-Robots-Tag:noindex
X-PUBLISHED-TTL:PT1H
BEGIN:VTIMEZONE
TZID:America/Detroit
BEGIN:DAYLIGHT
TZOFFSETFROM:-0500
TZOFFSETTO:-0400
TZNAME:EDT
DTSTART:20230312T070000
END:DAYLIGHT
BEGIN:STANDARD
TZOFFSETFROM:-0400
TZOFFSETTO:-0500
TZNAME:EST
DTSTART:20231105T060000
END:STANDARD
BEGIN:DAYLIGHT
TZOFFSETFROM:-0500
TZOFFSETTO:-0400
TZNAME:EDT
DTSTART:20240310T070000
END:DAYLIGHT
BEGIN:STANDARD
TZOFFSETFROM:-0400
TZOFFSETTO:-0500
TZNAME:EST
DTSTART:20241103T060000
END:STANDARD
BEGIN:DAYLIGHT
TZOFFSETFROM:-0500
TZOFFSETTO:-0400
TZNAME:EDT
DTSTART:20250309T070000
END:DAYLIGHT
BEGIN:STANDARD
TZOFFSETFROM:-0400
TZOFFSETTO:-0500
TZNAME:EST
DTSTART:20251102T060000
END:STANDARD
END:VTIMEZONE
BEGIN:VEVENT
DTSTART;TZID=America/Detroit:20241105T100000
DTEND;TZID=America/Detroit:20241217T113000
DTSTAMP:20260421T071010
CREATED:20240405T231236Z
LAST-MODIFIED:20241113T213840Z
UID:2406-1730800800-1734435000@webstertownshiphistoricalsociety.org
SUMMARY:Men's Monday Drop-In
DESCRIPTION:This group meets every Monday morning at 10:00 AM for conversation\, coffee and snacks.
URL:https://webstertownshiphistoricalsociety.org/event/mens-monday-drop-in-52
LOCATION:Crossroads Community Center\, 5501 Webster Church Road\, Dexter\, MI\, 48130\, United States
END:VEVENT
BEGIN:VEVENT
DTSTART;TZID=America/Detroit:20241207T100000
DTEND;TZID=America/Detroit:20241208T150000
DTSTAMP:20260421T071010
CREATED:20241114T143314Z
LAST-MODIFIED:20241114T225420Z
UID:2588-1733565600-1733670000@webstertownshiphistoricalsociety.org
SUMMARY:“12th Annual Huron Valley Woodturners’ Holiday Sale and Benefit”
DESCRIPTION:12th Annual Huron Valley Woodturners’ Holiday Sale and Benefit\nDec. 7 (10am – 5pm) and Dec 8 (10am – 3pm)\nCrossroads Community Center in Historic Webster Village \nA free weekend event at 5501 Webster Church Rd in Dexter. The whole family is invited to this benefit and sale of handmade beautiful unique wooden creations including pens\, ornaments\, bowls\, vases\, lamps\, as well as paintings\, jewelry and notecards in a lovely\, rustic 160 year-old building. There will be an opportunity to watch woodturners turn items on a lathe\, and they offer to give interested folks a chance to safely try turning as well. Come and enjoy free cookies and coffee and consider buying a $2 raffle ticket! Raffle proceeds go to benefit Webster Township Historical Society and 20%  of sales will go to the Virtual Dialysis Support Center. \nFor more information\, contact Erica Perry\, at ericaellenperry@gmail.com. \nHoliday 2024 poster
URL:https://webstertownshiphistoricalsociety.org/event/12-th-annual-huron-valley-woodturners-holiday-sale-and-benefit
LOCATION:Crossroads Community Center\, 5501 Webster Church Road\, Dexter\, MI\, 48130\, United States
ORGANIZER;CN="Erica Perry":MAILTO:ericaellenperry@gmail.com
END:VEVENT
BEGIN:VEVENT
DTSTART;TZID=America/Detroit:20241212T183000
DTEND;TZID=America/Detroit:20241212T213000
DTSTAMP:20260421T071010
CREATED:20241111T181549Z
LAST-MODIFIED:20241125T184509Z
UID:2563-1734028200-1734039000@webstertownshiphistoricalsociety.org
SUMMARY:Euchre Night
DESCRIPTION:EUCHRE NIGHT \nThursday\, December 12 \n* Last one for this year * \nSuggested donation at the door: $5/person. \nCheck-in begins at 6:30 PM; play begins at 7:00 PM — Please allow time for check in and table selection. \n7 tournament-style games will be played; losing partners will change tables after 2 rounds of deals and everyone changes partners. It’s a great way to meet new people! \nHearty refreshments will be served mid-evening. Donations are appreciated for beverages and refreshments. \nComplete 2025 Euchre Night Schedule \n\n\n\nJanuary 24\nFebruary 28\nMarch 28\nApril 25
URL:https://webstertownshiphistoricalsociety.org/event/2563
LOCATION:Crossroads Community Center\, 5501 Webster Church Road\, Dexter\, MI\, 48130\, United States
ATTACH;FMTTYPE=image/jpeg:https://webstertownshiphistoricalsociety.org/wp-content/uploads/2023/10/Euchre-Party-Logo-Copy-e1696698263190.jpg
END:VEVENT
BEGIN:VEVENT
DTSTART;TZID=America/Detroit:20241214T170000
DTEND;TZID=America/Detroit:20241214T190000
DTSTAMP:20260421T071010
CREATED:20240811T193623Z
LAST-MODIFIED:20241210T153300Z
UID:2502-1734195600-1734202800@webstertownshiphistoricalsociety.org
SUMMARY:Christmas in the Village
DESCRIPTION:Spend the evening strolling through the Historic Village by lantern light and luminaires; go back in time as the Arbor Consort\, in period dress\, fill the air with carols. Each building will be dressed in festive greenery and candlelight. Santa is in residence in the Old Town Hall; the schoolmarm will read “Twas the Night Before Christmas” in the one-room school and the blacksmith will fire up the old forge in the blacksmith shop. Revelers can warm by the outdoor\nfire with hot chocolate and cookies from the general store.\n$10.00 per person. Children 12 and under are free.
URL:https://webstertownshiphistoricalsociety.org/event/christmas-in-the-village-3
LOCATION:Historic Webster Village\, 5583 Webster Church Road\, Dexter\, MI\, 48130\, United States
ATTACH;FMTTYPE=image/jpeg:https://webstertownshiphistoricalsociety.org/wp-content/uploads/2024/01/Madrigal-Singers-scaled.jpg
END:VEVENT
END:VCALENDAR