BEGIN:VCALENDAR
VERSION:2.0
PRODID:-//The Webster Township Historical Society - ECPv6.15.20//NONSGML v1.0//EN
CALSCALE:GREGORIAN
METHOD:PUBLISH
X-ORIGINAL-URL:https://webstertownshiphistoricalsociety.org
X-WR-CALDESC:Events for The Webster Township Historical Society
REFRESH-INTERVAL;VALUE=DURATION:PT1H
X-Robots-Tag:noindex
X-PUBLISHED-TTL:PT1H
BEGIN:VTIMEZONE
TZID:America/Detroit
BEGIN:DAYLIGHT
TZOFFSETFROM:-0500
TZOFFSETTO:-0400
TZNAME:EDT
DTSTART:20250309T070000
END:DAYLIGHT
BEGIN:STANDARD
TZOFFSETFROM:-0400
TZOFFSETTO:-0500
TZNAME:EST
DTSTART:20251102T060000
END:STANDARD
BEGIN:DAYLIGHT
TZOFFSETFROM:-0500
TZOFFSETTO:-0400
TZNAME:EDT
DTSTART:20260308T070000
END:DAYLIGHT
BEGIN:STANDARD
TZOFFSETFROM:-0400
TZOFFSETTO:-0500
TZNAME:EST
DTSTART:20261101T060000
END:STANDARD
BEGIN:DAYLIGHT
TZOFFSETFROM:-0500
TZOFFSETTO:-0400
TZNAME:EDT
DTSTART:20270314T070000
END:DAYLIGHT
BEGIN:STANDARD
TZOFFSETFROM:-0400
TZOFFSETTO:-0500
TZNAME:EST
DTSTART:20271107T060000
END:STANDARD
END:VTIMEZONE
BEGIN:VEVENT
DTSTART;TZID=America/Detroit:20260427T100000
DTEND;TZID=America/Detroit:20260427T120000
DTSTAMP:20260425T070239
CREATED:20250201T223632Z
LAST-MODIFIED:20260419T003130Z
UID:2806-1777284000-1777291200@webstertownshiphistoricalsociety.org
SUMMARY:Men's Monday Drop-In
DESCRIPTION:This men’s group meets every Monday morning for conversation\, coffee and donuts.
URL:https://webstertownshiphistoricalsociety.org/event/mens-monday-drop-in-54
LOCATION:Crossroads Community Center\, 5501 Webster Church Road\, Dexter\, MI\, 48130\, United States
ATTACH;FMTTYPE=image/png:https://webstertownshiphistoricalsociety.org/wp-content/uploads/2025/02/coffee-cup-e1738449583610.png
END:VEVENT
BEGIN:VEVENT
DTSTART;TZID=America/Detroit:20260428T110000
DTEND;TZID=America/Detroit:20260428T130000
DTSTAMP:20260425T070239
CREATED:20250203T184127Z
LAST-MODIFIED:20260419T005807Z
UID:2842-1777374000-1777381200@webstertownshiphistoricalsociety.org
SUMMARY:Webster Women's Social Club: Bird Walk and Lunch at the Park
DESCRIPTION:Today’s adventure takes us on a guided bird walk at Hudson Mills Metropark beginning at 11:00 am. Bring your binoculars\, a sack lunch\, water bottle and wear sturdy shoes (there may be muddy areas).  \nWe will meet at the Park Office/Activity Center parking lot. We will bird on our way to a covered picnic area\, eat lunch and then bird on the way back to our cars\, covering less than 2 miles. Led by Debi Bailey. \nIn the event of rain\, we will meet at Crossroads Community Center to eat lunch and enjoy a bird slide show.
URL:https://webstertownshiphistoricalsociety.org/event/webster-womens-social-club-meeting
LOCATION:Hudson Mills Metropark\, 8801 N. Territorial\, Dexter\, MI\, 48130
ATTACH;FMTTYPE=image/png:https://webstertownshiphistoricalsociety.org/wp-content/uploads/2025/03/Screen-Shot-2025-03-25-at-3.14.27-PM.png
END:VEVENT
END:VCALENDAR